BEGIN:VCALENDAR
VERSION:2.0
PRODID:-//wp-events-plugin.com//7.2.3.1//EN
TZID:Europe/Zurich
X-WR-TIMEZONE:Europe/Zurich
BEGIN:VEVENT
UID:23@museum-arbon.ch
DTSTART;TZID=Europe/Zurich:20250601T103000
DTEND;TZID=Europe/Zurich:20250601T103000
DTSTAMP:20250524T051732Z
URL:https://museum-arbon.ch/events/rolf-e-kellenberg-arbon-und-die-familie
 -saurer/
SUMMARY:Arbon und die Familie Saurer
DESCRIPTION:In der Sonderausstellung „Gut Ding will Weile haben“ sind a
 nlässlich des Jubiläums 50 Jahre Museum im Schloss 50 Dinge aus dem Arch
 iv der Museumsgesellschaft ausgestellt. Dabei ist auch eine Büste von Ado
 lph Saurer und die Sargdecke\, die 1920 bei seinem Begräbnis verwendet wu
 rde. Die Museumsgesellschaft lädt nun am kommenden Sonntag\, 1. Juni\, zu
  einer Matinée ein. Dabei zeigt Rolf E. Kellenberg auf\, welch prägende 
 Wirkung die Familie Saurer und ihr Unternehmen auf die Stadt Arbon hatte. 
 Bis in die 1980-Jahre galt: "Geht es Saurer gut\, geht es auch Arbon gut!"
  Der Referent ermöglicht vertiefte Einblicke in die private Lebenswelt un
 d die Schicksale der Familie Saurer. 1936\, nach dem Tod von Hippolyt Saur
 er\, ging der Einfluss der Familie auf das Unternehmen schrittweise zurüc
 k\; 1973 schied der letzte Vertreter der Familie aus dem Verwaltungsrat. D
 ie Veranstaltung beginnt um 10.30 Uhr und ist kostenlos.\n\n&nbsp\;
ATTACH;FMTTYPE=image/jpeg:https://i0.wp.com/museum-arbon.ch/wp-content/upl
 oads/2025/05/Papa-Saurer-01-scaled.jpg?fit=1857%2C2560&ssl=1
LOCATION:Historisches Museum Schloss Arbon\, Schloss 3\, Arbon\, Thurgau\, 
 9320\, Schweiz
X-APPLE-STRUCTURED-LOCATION;VALUE=URI;X-ADDRESS=Schloss 3\, Arbon\, Thurgau
 \, 9320\, Schweiz;X-APPLE-RADIUS=100;X-TITLE=Historisches Museum Schloss A
 rbon:geo:0,0
END:VEVENT
BEGIN:VTIMEZONE
TZID:Europe/Zurich
X-LIC-LOCATION:Europe/Zurich
BEGIN:DAYLIGHT
DTSTART:20250330T030000
TZOFFSETFROM:+0100
TZOFFSETTO:+0200
TZNAME:CEST
END:DAYLIGHT
END:VTIMEZONE
END:VCALENDAR